

BEGIN:VCALENDAR
VERSION:2.0
PRODID:-//eHousingPlus - ECPv6.15.17.1//NONSGML v1.0//EN
CALSCALE:GREGORIAN
METHOD:PUBLISH
X-ORIGINAL-URL:https://www.ehousingplus.com
X-WR-CALDESC:Events for eHousingPlus
REFRESH-INTERVAL;VALUE=DURATION:PT1H
X-Robots-Tag:noindex
X-PUBLISHED-TTL:PT1H
BEGIN:VTIMEZONE
TZID:America/New_York
BEGIN:DAYLIGHT
TZOFFSETFROM:-0500
TZOFFSETTO:-0400
TZNAME:EDT
DTSTART:20250309T070000
END:DAYLIGHT
BEGIN:STANDARD
TZOFFSETFROM:-0400
TZOFFSETTO:-0500
TZNAME:EST
DTSTART:20251102T060000
END:STANDARD
BEGIN:DAYLIGHT
TZOFFSETFROM:-0500
TZOFFSETTO:-0400
TZNAME:EDT
DTSTART:20260308T070000
END:DAYLIGHT
BEGIN:STANDARD
TZOFFSETFROM:-0400
TZOFFSETTO:-0500
TZNAME:EST
DTSTART:20261101T060000
END:STANDARD
BEGIN:DAYLIGHT
TZOFFSETFROM:-0500
TZOFFSETTO:-0400
TZNAME:EDT
DTSTART:20270314T070000
END:DAYLIGHT
BEGIN:STANDARD
TZOFFSETFROM:-0400
TZOFFSETTO:-0500
TZNAME:EST
DTSTART:20271107T060000
END:STANDARD
END:VTIMEZONE
BEGIN:VEVENT
DTSTART;TZID=America/New_York:20260317T100000
DTEND;TZID=America/New_York:20260317T110000
DTSTAMP:20260422T074450
CREATED:20260316T140608Z
LAST-MODIFIED:20260316T140608Z
UID:10000100-1773741600-1773745200@www.ehousingplus.com
SUMMARY:St. Patrick's Day MCC Webinar - Learn the Value for Your Homebuyers
DESCRIPTION:This St. Patrick’s Day\, you don’t need to chase the end of the rainbow to find a pot of gold. Join us for a fun and educational Lunch & Learn webinar where we’ll uncover the real value of the Mortgage Credit Certificate (MCC) and how it can benefit your homebuyers. This session is designed for lenders and Realtors working with bond and TBA programs in Florida who want to better understand the benefits of the MCC program. 🍀 What You’ll Learn During this interactive webinar\, we will cover: \n• What a Mortgage Credit Certificate (MCC) is?  • How the MCC is calculated for homebuyers? • The true financial value of the MCC • Common myths and misconceptions about MCC programs • How MCCs can help increase buyer purchasing power. \nMany industry professionals have heard of the MCC\, but few truly understand how powerful it can be for first-time homebuyers. This webinar will break it down in simple terms and give you tools to better educate your clients. 🌈 Don’t Miss This St. Patrick’s Day Lunch & Learn Bring your corned beef and cabbage\, wear your green\, and join us for this special St. Patrick’s Day educational event.
URL:https://www.ehousingplus.com/event/st-patricks-day-mcc-webinar-learn-the-value-for-your-homebuyers/
END:VEVENT
BEGIN:VEVENT
DTSTART;TZID=America/New_York:20260323T110000
DTEND;TZID=America/New_York:20260323T123000
DTSTAMP:20260422T074450
CREATED:20260317T181045Z
LAST-MODIFIED:20260323T142416Z
UID:10000101-1774263600-1774269000@www.ehousingplus.com
SUMMARY:North Central Texas HFC First Home Program Lunch & Learn
DESCRIPTION:We’re hosting a Lunch & Learn for the participating lenders in the North Central Texas HFC First Home Program\, and you won’t want to miss it! \nYou already know the program rules – now let’s make it even easier to execute.  In this session\, we’ll walk through the super simple end-to-end process from Origination to Loan Purchase\, with a focus on helping you close loans faster and with confidence. \n💡 What we’ll cover: \n\nHow to make a loan reservation\nCompleting the Underwriter Certification\nHow to print program forms quickly and correctly\nTips to streamline your workflow and avoid common pitfalls\n\nWhether you’re actively originating loans or gearing up to do more\, this session will help you maximize efficiency and production with the program. \nSeats are limited and this session will fill up fast—register today to secure your spot! \n 
URL:https://www.ehousingplus.com/event/north-central-texas-hfx-first-home-program-lunch-learn/
END:VEVENT
BEGIN:VEVENT
DTSTART;TZID=America/New_York:20260402T110000
DTEND;TZID=America/New_York:20260402T120000
DTSTAMP:20260422T074450
CREATED:20260326T135734Z
LAST-MODIFIED:20260326T135734Z
UID:10000102-1775127600-1775131200@www.ehousingplus.com
SUMMARY:Florida Housing Lunch & Learn
DESCRIPTION:You’re invited to join an upcoming Lunch & Learn webinar for participating lenders in the Florida Housing Finance Corporation programs. This session will serve as a refresher on the Standard Bond and Standard TBA Program requirements\, with a focus on key guidelines\, common questions\, and important reminders to support your pipeline. Seats at this lunch table will fill up quickly\, be sure to register today to secure your spot. We look forward to having you join us!
URL:https://www.ehousingplus.com/event/florida-housing-lunch-learn/
END:VEVENT
BEGIN:VEVENT
DTSTART;TZID=America/New_York:20260409T110000
DTEND;TZID=America/New_York:20260409T120000
DTSTAMP:20260422T074450
CREATED:20260401T150904Z
LAST-MODIFIED:20260401T150904Z
UID:10000103-1775732400-1775736000@www.ehousingplus.com
SUMMARY:Home Sweet Home Program Lunch & Learn
DESCRIPTION:As the spring buying season heats up\, so does the Home Sweet Home Program\, and we want to make sure you’re ready to make the most of it! Join us for an exciting and informative Lunch & Learn\, where we’ll break down the key nuances that set Home Sweet Home apart from other programs and help you confidently guide your borrowers this season. This session is designed to keep the program fresh\, top-of-mind\, and easy to navigate\, so you can move quickly and confidently with your borrowers in this competitive market. \nWhat we’ll cover: • First-Time Homebuyer requirement – what it really means • Income eligibility – including borrower\, spouse\, and all household members age 18+ • DPA variations based on property location • Hillsborough County-specific requirements • • Closing expectations • • Post-closing compliance
URL:https://www.ehousingplus.com/event/home-sweet-home-program-lunch-learn/
END:VEVENT
BEGIN:VEVENT
DTSTART;TZID=America/New_York:20260416T140000
DTEND;TZID=America/New_York:20260416T150000
DTSTAMP:20260422T074450
CREATED:20260410T124440Z
LAST-MODIFIED:20260410T124440Z
UID:10000104-1776348000-1776351600@www.ehousingplus.com
SUMMARY:Kansas DPA Program Lunch & Learn
DESCRIPTION:Join us on April 16th at 1:00pm CT for the KansasDPA Program lunch & learn to discuss the recent program enhancements
URL:https://www.ehousingplus.com/event/kansas-dpa-program-lunch-learn/
END:VEVENT
END:VCALENDAR